BEGIN:VCALENDAR
VERSION:2.0
PRODID:-//Oklahoma Community Theatre Association - ECPv6.15.20//NONSGML v1.0//EN
CALSCALE:GREGORIAN
METHOD:PUBLISH
X-WR-CALNAME:Oklahoma Community Theatre Association
X-ORIGINAL-URL:https://oktheatre.org
X-WR-CALDESC:Events for Oklahoma Community Theatre Association
REFRESH-INTERVAL;VALUE=DURATION:PT1H
X-Robots-Tag:noindex
X-PUBLISHED-TTL:PT1H
BEGIN:VTIMEZONE
TZID:America/Chicago
BEGIN:DAYLIGHT
TZOFFSETFROM:-0600
TZOFFSETTO:-0500
TZNAME:CDT
DTSTART:20250309T080000
END:DAYLIGHT
BEGIN:STANDARD
TZOFFSETFROM:-0500
TZOFFSETTO:-0600
TZNAME:CST
DTSTART:20251102T070000
END:STANDARD
BEGIN:DAYLIGHT
TZOFFSETFROM:-0600
TZOFFSETTO:-0500
TZNAME:CDT
DTSTART:20260308T080000
END:DAYLIGHT
BEGIN:STANDARD
TZOFFSETFROM:-0500
TZOFFSETTO:-0600
TZNAME:CST
DTSTART:20261101T070000
END:STANDARD
BEGIN:DAYLIGHT
TZOFFSETFROM:-0600
TZOFFSETTO:-0500
TZNAME:CDT
DTSTART:20270314T080000
END:DAYLIGHT
BEGIN:STANDARD
TZOFFSETFROM:-0500
TZOFFSETTO:-0600
TZNAME:CST
DTSTART:20271107T070000
END:STANDARD
END:VTIMEZONE
BEGIN:VEVENT
DTSTART;TZID=America/Chicago:20260424T193000
DTEND;TZID=America/Chicago:20260424T213000
DTSTAMP:20260424T083327
CREATED:20260312T202405Z
LAST-MODIFIED:20260312T202405Z
UID:10004006-1777059000-1777066200@oktheatre.org
SUMMARY:Southwest Playhouse proudly presents Dial M for Murder
DESCRIPTION:Tony Wendice married his wife Margot for her money; now he plans to murder her for it. Tony arranges the perfect murder – he hires a scoundrel he once knew to strangle Margot\, and arranges a brilliant alibi for himself. However\, on the night of the planned attack\, the plan goes awry and Margot manages to kill her attacker. Momentarily ruffled\, Tony soon sees the hitman’s death as an opportunity to have his wife convicted of murder. Can he frame Margot for his twisted crime before Margot and a Scotland Yard inspector reveal his deceit?
URL:https://oktheatre.org/event/southwest-playhouse-proudly-presents-dial-m-for-murder/2026-04-24/
LOCATION:Southwest Playhouse\, 6th & Nowahy\, Clinton\, 73601
ATTACH;FMTTYPE=image/webp:https://oktheatre.org/wp-content/uploads/2026/03/Dial-M-for-Murder-2.webp
ORGANIZER;CN="Southwest Playhouse":MAILTO:swph1965@gmail.com
END:VEVENT
BEGIN:VEVENT
DTSTART;TZID=America/Chicago:20260425T193000
DTEND;TZID=America/Chicago:20260425T213000
DTSTAMP:20260424T083327
CREATED:20260312T202405Z
LAST-MODIFIED:20260312T202405Z
UID:10004007-1777145400-1777152600@oktheatre.org
SUMMARY:Southwest Playhouse proudly presents Dial M for Murder
DESCRIPTION:Tony Wendice married his wife Margot for her money; now he plans to murder her for it. Tony arranges the perfect murder – he hires a scoundrel he once knew to strangle Margot\, and arranges a brilliant alibi for himself. However\, on the night of the planned attack\, the plan goes awry and Margot manages to kill her attacker. Momentarily ruffled\, Tony soon sees the hitman’s death as an opportunity to have his wife convicted of murder. Can he frame Margot for his twisted crime before Margot and a Scotland Yard inspector reveal his deceit?
URL:https://oktheatre.org/event/southwest-playhouse-proudly-presents-dial-m-for-murder/2026-04-25/
LOCATION:Southwest Playhouse\, 6th & Nowahy\, Clinton\, 73601
ATTACH;FMTTYPE=image/webp:https://oktheatre.org/wp-content/uploads/2026/03/Dial-M-for-Murder-2.webp
ORGANIZER;CN="Southwest Playhouse":MAILTO:swph1965@gmail.com
END:VEVENT
BEGIN:VEVENT
DTSTART;TZID=America/Chicago:20260426T140000
DTEND;TZID=America/Chicago:20260426T160000
DTSTAMP:20260424T083327
CREATED:20260312T202405Z
LAST-MODIFIED:20260312T202405Z
UID:10004008-1777212000-1777219200@oktheatre.org
SUMMARY:Southwest Playhouse proudly presents Dial M for Murder
DESCRIPTION:Tony Wendice married his wife Margot for her money; now he plans to murder her for it. Tony arranges the perfect murder – he hires a scoundrel he once knew to strangle Margot\, and arranges a brilliant alibi for himself. However\, on the night of the planned attack\, the plan goes awry and Margot manages to kill her attacker. Momentarily ruffled\, Tony soon sees the hitman’s death as an opportunity to have his wife convicted of murder. Can he frame Margot for his twisted crime before Margot and a Scotland Yard inspector reveal his deceit?
URL:https://oktheatre.org/event/southwest-playhouse-proudly-presents-dial-m-for-murder/2026-04-26/
LOCATION:Southwest Playhouse\, 6th & Nowahy\, Clinton\, 73601
ATTACH;FMTTYPE=image/webp:https://oktheatre.org/wp-content/uploads/2026/03/Dial-M-for-Murder-2.webp
ORGANIZER;CN="Southwest Playhouse":MAILTO:swph1965@gmail.com
END:VEVENT
END:VCALENDAR