BEGIN:VCALENDAR
VERSION:2.0
PRODID:-//Oklahoma Community Theatre Association - ECPv6.15.20//NONSGML v1.0//EN
CALSCALE:GREGORIAN
METHOD:PUBLISH
X-ORIGINAL-URL:https://oktheatre.org
X-WR-CALDESC:Events for Oklahoma Community Theatre Association
REFRESH-INTERVAL;VALUE=DURATION:PT1H
X-Robots-Tag:noindex
X-PUBLISHED-TTL:PT1H
BEGIN:VTIMEZONE
TZID:America/Chicago
BEGIN:DAYLIGHT
TZOFFSETFROM:-0600
TZOFFSETTO:-0500
TZNAME:CDT
DTSTART:20240310T080000
END:DAYLIGHT
BEGIN:STANDARD
TZOFFSETFROM:-0500
TZOFFSETTO:-0600
TZNAME:CST
DTSTART:20241103T070000
END:STANDARD
BEGIN:DAYLIGHT
TZOFFSETFROM:-0600
TZOFFSETTO:-0500
TZNAME:CDT
DTSTART:20250309T080000
END:DAYLIGHT
BEGIN:STANDARD
TZOFFSETFROM:-0500
TZOFFSETTO:-0600
TZNAME:CST
DTSTART:20251102T070000
END:STANDARD
BEGIN:DAYLIGHT
TZOFFSETFROM:-0600
TZOFFSETTO:-0500
TZNAME:CDT
DTSTART:20260308T080000
END:DAYLIGHT
BEGIN:STANDARD
TZOFFSETFROM:-0500
TZOFFSETTO:-0600
TZNAME:CST
DTSTART:20261101T070000
END:STANDARD
END:VTIMEZONE
BEGIN:VEVENT
DTSTART;TZID=America/Chicago:20250921T140000
DTEND;TZID=America/Chicago:20250921T170000
DTSTAMP:20260424T162525
CREATED:20250812T212034Z
LAST-MODIFIED:20250815T194715Z
UID:10003434-1758463200-1758474000@oktheatre.org
SUMMARY:CHICAGO
DESCRIPTION:Book by Fred Ebb and Bob Fosse\nMusic by John Kander\nLyrics by Fred Ebb \nBased on the play by Maurine Dallas Watkins / Script adaptation by David Thompson \nIn “Roaring Twenties” Chicago\, chorine Roxie Hart murders a faithless lover and convinces her hapless husband\, Amos\, to take the rap…until he finds out he’s been duped and turns on Roxie. Convicted and sent to death row\, Roxie and another “Merry Murderess\,” Velma Kelly\, vie for the spotlight and the headlines\, ultimately joining forces in search of the “American Dream”: fame\, fortune\, and acquittal. This sharp-edged satire features a dazzling score that sparked immortal staging by Bob Fosse. \nPhone: 580-355-1600\nEmail: boxoffice@lctok.com\nAddress: 1316 NW Bell Ave. Lawton\, OK 73507
URL:https://oktheatre.org/event/chicago/2025-09-21/
LOCATION:Lawton Community Theatre\, 1316 NW Bell Ave.\, Lawton\, 73507
ATTACH;FMTTYPE=image/webp:https://oktheatre.org/wp-content/uploads/2025/08/chicago.webp
ORGANIZER;CN="Lawton Community Theatre":MAILTO:director@lctok.com
END:VEVENT
BEGIN:VEVENT
DTSTART;TZID=America/Chicago:20250921T140000
DTEND;TZID=America/Chicago:20250921T163000
DTSTAMP:20260424T162525
CREATED:20250903T192232Z
LAST-MODIFIED:20250904T042606Z
UID:10003566-1758463200-1758472200@oktheatre.org
SUMMARY:“The Odd Couple” at the Ponca Playhouse
DESCRIPTION:Find out what happens when the recently-separated Felix Unger becomes roommates with untidy slob Oscar Madison\, as the Ponca Playhouse kicks off our 67th season with Neil Simon’s\, “The Odd Couple\,” directed by Lance Garrett. This comedy classic features an amazing cast and its a show you won’t want to miss! Performances are September 12-14\, and September 19-21. Friday and Saturday showtimes are 7:30p\, and Sunday matinees are at 2p. Tickets on Sale at www.poncaplayhouse.com. Season memberships are also available! \nThe Ponca Playhouse is located at 301 S 1st Street (corner if 1st and Oklahoma) in downtown Ponca City. \n“The Odd Couple” is presented by arrangement with Concord Theatricals on behalf of Samuel French\, Inc. www.concordtheatricals.com
URL:https://oktheatre.org/event/the-odd-couple-at-the-ponca-playhouse/2025-09-21/
LOCATION:Ponca Playhouse\, 301 S 1st Street\, Ponca City\, OK\, 74601\, United States
ATTACH;FMTTYPE=image/webp:https://oktheatre.org/wp-content/uploads/2025/08/Odd-Couple-Poster-final.webp
ORGANIZER;CN="Ponca Playhouse":MAILTO:poncaplayhouse@gmail.com
END:VEVENT
BEGIN:VEVENT
DTSTART;TZID=America/Chicago:20250920T193000
DTEND;TZID=America/Chicago:20250920T230000
DTSTAMP:20260424T162525
CREATED:20250812T212034Z
LAST-MODIFIED:20250815T194715Z
UID:10003431-1758396600-1758409200@oktheatre.org
SUMMARY:CHICAGO
DESCRIPTION:Book by Fred Ebb and Bob Fosse\nMusic by John Kander\nLyrics by Fred Ebb \nBased on the play by Maurine Dallas Watkins / Script adaptation by David Thompson \nIn “Roaring Twenties” Chicago\, chorine Roxie Hart murders a faithless lover and convinces her hapless husband\, Amos\, to take the rap…until he finds out he’s been duped and turns on Roxie. Convicted and sent to death row\, Roxie and another “Merry Murderess\,” Velma Kelly\, vie for the spotlight and the headlines\, ultimately joining forces in search of the “American Dream”: fame\, fortune\, and acquittal. This sharp-edged satire features a dazzling score that sparked immortal staging by Bob Fosse. \nPhone: 580-355-1600\nEmail: boxoffice@lctok.com\nAddress: 1316 NW Bell Ave. Lawton\, OK 73507
URL:https://oktheatre.org/event/chicago/2025-09-20/
LOCATION:Lawton Community Theatre\, 1316 NW Bell Ave.\, Lawton\, 73507
ATTACH;FMTTYPE=image/webp:https://oktheatre.org/wp-content/uploads/2025/08/chicago.webp
ORGANIZER;CN="Lawton Community Theatre":MAILTO:director@lctok.com
END:VEVENT
BEGIN:VEVENT
DTSTART;TZID=America/Chicago:20250920T193000
DTEND;TZID=America/Chicago:20250920T220000
DTSTAMP:20260424T162525
CREATED:20250903T192232Z
LAST-MODIFIED:20250904T042606Z
UID:10003565-1758396600-1758405600@oktheatre.org
SUMMARY:“The Odd Couple” at the Ponca Playhouse
DESCRIPTION:Find out what happens when the recently-separated Felix Unger becomes roommates with untidy slob Oscar Madison\, as the Ponca Playhouse kicks off our 67th season with Neil Simon’s\, “The Odd Couple\,” directed by Lance Garrett. This comedy classic features an amazing cast and its a show you won’t want to miss! Performances are September 12-14\, and September 19-21. Friday and Saturday showtimes are 7:30p\, and Sunday matinees are at 2p. Tickets on Sale at www.poncaplayhouse.com. Season memberships are also available! \nThe Ponca Playhouse is located at 301 S 1st Street (corner if 1st and Oklahoma) in downtown Ponca City. \n“The Odd Couple” is presented by arrangement with Concord Theatricals on behalf of Samuel French\, Inc. www.concordtheatricals.com
URL:https://oktheatre.org/event/the-odd-couple-at-the-ponca-playhouse/2025-09-20/
LOCATION:Ponca Playhouse\, 301 S 1st Street\, Ponca City\, OK\, 74601\, United States
ATTACH;FMTTYPE=image/webp:https://oktheatre.org/wp-content/uploads/2025/08/Odd-Couple-Poster-final.webp
ORGANIZER;CN="Ponca Playhouse":MAILTO:poncaplayhouse@gmail.com
END:VEVENT
BEGIN:VEVENT
DTSTART;TZID=America/Chicago:20250919T193000
DTEND;TZID=America/Chicago:20250919T230000
DTSTAMP:20260424T162525
CREATED:20250812T212034Z
LAST-MODIFIED:20250815T194715Z
UID:10003430-1758310200-1758322800@oktheatre.org
SUMMARY:CHICAGO
DESCRIPTION:Book by Fred Ebb and Bob Fosse\nMusic by John Kander\nLyrics by Fred Ebb \nBased on the play by Maurine Dallas Watkins / Script adaptation by David Thompson \nIn “Roaring Twenties” Chicago\, chorine Roxie Hart murders a faithless lover and convinces her hapless husband\, Amos\, to take the rap…until he finds out he’s been duped and turns on Roxie. Convicted and sent to death row\, Roxie and another “Merry Murderess\,” Velma Kelly\, vie for the spotlight and the headlines\, ultimately joining forces in search of the “American Dream”: fame\, fortune\, and acquittal. This sharp-edged satire features a dazzling score that sparked immortal staging by Bob Fosse. \nPhone: 580-355-1600\nEmail: boxoffice@lctok.com\nAddress: 1316 NW Bell Ave. Lawton\, OK 73507
URL:https://oktheatre.org/event/chicago/2025-09-19/
LOCATION:Lawton Community Theatre\, 1316 NW Bell Ave.\, Lawton\, 73507
ATTACH;FMTTYPE=image/webp:https://oktheatre.org/wp-content/uploads/2025/08/chicago.webp
ORGANIZER;CN="Lawton Community Theatre":MAILTO:director@lctok.com
END:VEVENT
BEGIN:VEVENT
DTSTART;TZID=America/Chicago:20250919T193000
DTEND;TZID=America/Chicago:20250919T220000
DTSTAMP:20260424T162525
CREATED:20250903T192232Z
LAST-MODIFIED:20250904T042606Z
UID:10003564-1758310200-1758319200@oktheatre.org
SUMMARY:“The Odd Couple” at the Ponca Playhouse
DESCRIPTION:Find out what happens when the recently-separated Felix Unger becomes roommates with untidy slob Oscar Madison\, as the Ponca Playhouse kicks off our 67th season with Neil Simon’s\, “The Odd Couple\,” directed by Lance Garrett. This comedy classic features an amazing cast and its a show you won’t want to miss! Performances are September 12-14\, and September 19-21. Friday and Saturday showtimes are 7:30p\, and Sunday matinees are at 2p. Tickets on Sale at www.poncaplayhouse.com. Season memberships are also available! \nThe Ponca Playhouse is located at 301 S 1st Street (corner if 1st and Oklahoma) in downtown Ponca City. \n“The Odd Couple” is presented by arrangement with Concord Theatricals on behalf of Samuel French\, Inc. www.concordtheatricals.com
URL:https://oktheatre.org/event/the-odd-couple-at-the-ponca-playhouse/2025-09-19/
LOCATION:Ponca Playhouse\, 301 S 1st Street\, Ponca City\, OK\, 74601\, United States
ATTACH;FMTTYPE=image/webp:https://oktheatre.org/wp-content/uploads/2025/08/Odd-Couple-Poster-final.webp
ORGANIZER;CN="Ponca Playhouse":MAILTO:poncaplayhouse@gmail.com
END:VEVENT
BEGIN:VEVENT
DTSTART;TZID=America/Chicago:20250918T193000
DTEND;TZID=America/Chicago:20250918T230000
DTSTAMP:20260424T162525
CREATED:20250812T212034Z
LAST-MODIFIED:20250815T194715Z
UID:10003429-1758223800-1758236400@oktheatre.org
SUMMARY:CHICAGO
DESCRIPTION:Book by Fred Ebb and Bob Fosse\nMusic by John Kander\nLyrics by Fred Ebb \nBased on the play by Maurine Dallas Watkins / Script adaptation by David Thompson \nIn “Roaring Twenties” Chicago\, chorine Roxie Hart murders a faithless lover and convinces her hapless husband\, Amos\, to take the rap…until he finds out he’s been duped and turns on Roxie. Convicted and sent to death row\, Roxie and another “Merry Murderess\,” Velma Kelly\, vie for the spotlight and the headlines\, ultimately joining forces in search of the “American Dream”: fame\, fortune\, and acquittal. This sharp-edged satire features a dazzling score that sparked immortal staging by Bob Fosse. \nPhone: 580-355-1600\nEmail: boxoffice@lctok.com\nAddress: 1316 NW Bell Ave. Lawton\, OK 73507
URL:https://oktheatre.org/event/chicago/2025-09-18/
LOCATION:Lawton Community Theatre\, 1316 NW Bell Ave.\, Lawton\, 73507
ATTACH;FMTTYPE=image/webp:https://oktheatre.org/wp-content/uploads/2025/08/chicago.webp
ORGANIZER;CN="Lawton Community Theatre":MAILTO:director@lctok.com
END:VEVENT
BEGIN:VEVENT
DTSTART;TZID=America/Chicago:20250914T140000
DTEND;TZID=America/Chicago:20250914T170000
DTSTAMP:20260424T162525
CREATED:20250812T212034Z
LAST-MODIFIED:20250815T194715Z
UID:10003433-1757858400-1757869200@oktheatre.org
SUMMARY:CHICAGO
DESCRIPTION:Book by Fred Ebb and Bob Fosse\nMusic by John Kander\nLyrics by Fred Ebb \nBased on the play by Maurine Dallas Watkins / Script adaptation by David Thompson \nIn “Roaring Twenties” Chicago\, chorine Roxie Hart murders a faithless lover and convinces her hapless husband\, Amos\, to take the rap…until he finds out he’s been duped and turns on Roxie. Convicted and sent to death row\, Roxie and another “Merry Murderess\,” Velma Kelly\, vie for the spotlight and the headlines\, ultimately joining forces in search of the “American Dream”: fame\, fortune\, and acquittal. This sharp-edged satire features a dazzling score that sparked immortal staging by Bob Fosse. \nPhone: 580-355-1600\nEmail: boxoffice@lctok.com\nAddress: 1316 NW Bell Ave. Lawton\, OK 73507
URL:https://oktheatre.org/event/chicago/2025-09-14/
LOCATION:Lawton Community Theatre\, 1316 NW Bell Ave.\, Lawton\, 73507
ATTACH;FMTTYPE=image/webp:https://oktheatre.org/wp-content/uploads/2025/08/chicago.webp
ORGANIZER;CN="Lawton Community Theatre":MAILTO:director@lctok.com
END:VEVENT
BEGIN:VEVENT
DTSTART;TZID=America/Chicago:20250914T140000
DTEND;TZID=America/Chicago:20250914T163000
DTSTAMP:20260424T162525
CREATED:20250903T192232Z
LAST-MODIFIED:20250904T042606Z
UID:10003563-1757858400-1757867400@oktheatre.org
SUMMARY:“The Odd Couple” at the Ponca Playhouse
DESCRIPTION:Find out what happens when the recently-separated Felix Unger becomes roommates with untidy slob Oscar Madison\, as the Ponca Playhouse kicks off our 67th season with Neil Simon’s\, “The Odd Couple\,” directed by Lance Garrett. This comedy classic features an amazing cast and its a show you won’t want to miss! Performances are September 12-14\, and September 19-21. Friday and Saturday showtimes are 7:30p\, and Sunday matinees are at 2p. Tickets on Sale at www.poncaplayhouse.com. Season memberships are also available! \nThe Ponca Playhouse is located at 301 S 1st Street (corner if 1st and Oklahoma) in downtown Ponca City. \n“The Odd Couple” is presented by arrangement with Concord Theatricals on behalf of Samuel French\, Inc. www.concordtheatricals.com
URL:https://oktheatre.org/event/the-odd-couple-at-the-ponca-playhouse/2025-09-14/
LOCATION:Ponca Playhouse\, 301 S 1st Street\, Ponca City\, OK\, 74601\, United States
ATTACH;FMTTYPE=image/webp:https://oktheatre.org/wp-content/uploads/2025/08/Odd-Couple-Poster-final.webp
ORGANIZER;CN="Ponca Playhouse":MAILTO:poncaplayhouse@gmail.com
END:VEVENT
BEGIN:VEVENT
DTSTART;TZID=America/Chicago:20250913T193000
DTEND;TZID=America/Chicago:20250913T230000
DTSTAMP:20260424T162525
CREATED:20250812T212034Z
LAST-MODIFIED:20250815T194715Z
UID:10003427-1757791800-1757804400@oktheatre.org
SUMMARY:CHICAGO
DESCRIPTION:Book by Fred Ebb and Bob Fosse\nMusic by John Kander\nLyrics by Fred Ebb \nBased on the play by Maurine Dallas Watkins / Script adaptation by David Thompson \nIn “Roaring Twenties” Chicago\, chorine Roxie Hart murders a faithless lover and convinces her hapless husband\, Amos\, to take the rap…until he finds out he’s been duped and turns on Roxie. Convicted and sent to death row\, Roxie and another “Merry Murderess\,” Velma Kelly\, vie for the spotlight and the headlines\, ultimately joining forces in search of the “American Dream”: fame\, fortune\, and acquittal. This sharp-edged satire features a dazzling score that sparked immortal staging by Bob Fosse. \nPhone: 580-355-1600\nEmail: boxoffice@lctok.com\nAddress: 1316 NW Bell Ave. Lawton\, OK 73507
URL:https://oktheatre.org/event/chicago/2025-09-13/
LOCATION:Lawton Community Theatre\, 1316 NW Bell Ave.\, Lawton\, 73507
ATTACH;FMTTYPE=image/webp:https://oktheatre.org/wp-content/uploads/2025/08/chicago.webp
ORGANIZER;CN="Lawton Community Theatre":MAILTO:director@lctok.com
END:VEVENT
BEGIN:VEVENT
DTSTART;TZID=America/Chicago:20250913T193000
DTEND;TZID=America/Chicago:20250913T220000
DTSTAMP:20260424T162525
CREATED:20250903T192232Z
LAST-MODIFIED:20250904T042606Z
UID:10003562-1757791800-1757800800@oktheatre.org
SUMMARY:“The Odd Couple” at the Ponca Playhouse
DESCRIPTION:Find out what happens when the recently-separated Felix Unger becomes roommates with untidy slob Oscar Madison\, as the Ponca Playhouse kicks off our 67th season with Neil Simon’s\, “The Odd Couple\,” directed by Lance Garrett. This comedy classic features an amazing cast and its a show you won’t want to miss! Performances are September 12-14\, and September 19-21. Friday and Saturday showtimes are 7:30p\, and Sunday matinees are at 2p. Tickets on Sale at www.poncaplayhouse.com. Season memberships are also available! \nThe Ponca Playhouse is located at 301 S 1st Street (corner if 1st and Oklahoma) in downtown Ponca City. \n“The Odd Couple” is presented by arrangement with Concord Theatricals on behalf of Samuel French\, Inc. www.concordtheatricals.com
URL:https://oktheatre.org/event/the-odd-couple-at-the-ponca-playhouse/2025-09-13/
LOCATION:Ponca Playhouse\, 301 S 1st Street\, Ponca City\, OK\, 74601\, United States
ATTACH;FMTTYPE=image/webp:https://oktheatre.org/wp-content/uploads/2025/08/Odd-Couple-Poster-final.webp
ORGANIZER;CN="Ponca Playhouse":MAILTO:poncaplayhouse@gmail.com
END:VEVENT
BEGIN:VEVENT
DTSTART;TZID=America/Chicago:20250912T193000
DTEND;TZID=America/Chicago:20250912T230000
DTSTAMP:20260424T162525
CREATED:20250812T212034Z
LAST-MODIFIED:20250815T194715Z
UID:10003426-1757705400-1757718000@oktheatre.org
SUMMARY:CHICAGO
DESCRIPTION:Book by Fred Ebb and Bob Fosse\nMusic by John Kander\nLyrics by Fred Ebb \nBased on the play by Maurine Dallas Watkins / Script adaptation by David Thompson \nIn “Roaring Twenties” Chicago\, chorine Roxie Hart murders a faithless lover and convinces her hapless husband\, Amos\, to take the rap…until he finds out he’s been duped and turns on Roxie. Convicted and sent to death row\, Roxie and another “Merry Murderess\,” Velma Kelly\, vie for the spotlight and the headlines\, ultimately joining forces in search of the “American Dream”: fame\, fortune\, and acquittal. This sharp-edged satire features a dazzling score that sparked immortal staging by Bob Fosse. \nPhone: 580-355-1600\nEmail: boxoffice@lctok.com\nAddress: 1316 NW Bell Ave. Lawton\, OK 73507
URL:https://oktheatre.org/event/chicago/2025-09-12/
LOCATION:Lawton Community Theatre\, 1316 NW Bell Ave.\, Lawton\, 73507
ATTACH;FMTTYPE=image/webp:https://oktheatre.org/wp-content/uploads/2025/08/chicago.webp
ORGANIZER;CN="Lawton Community Theatre":MAILTO:director@lctok.com
END:VEVENT
BEGIN:VEVENT
DTSTART;TZID=America/Chicago:20250912T193000
DTEND;TZID=America/Chicago:20250912T220000
DTSTAMP:20260424T162525
CREATED:20250903T192232Z
LAST-MODIFIED:20250904T042606Z
UID:10003437-1757705400-1757714400@oktheatre.org
SUMMARY:“The Odd Couple” at the Ponca Playhouse
DESCRIPTION:Find out what happens when the recently-separated Felix Unger becomes roommates with untidy slob Oscar Madison\, as the Ponca Playhouse kicks off our 67th season with Neil Simon’s\, “The Odd Couple\,” directed by Lance Garrett. This comedy classic features an amazing cast and its a show you won’t want to miss! Performances are September 12-14\, and September 19-21. Friday and Saturday showtimes are 7:30p\, and Sunday matinees are at 2p. Tickets on Sale at www.poncaplayhouse.com. Season memberships are also available! \nThe Ponca Playhouse is located at 301 S 1st Street (corner if 1st and Oklahoma) in downtown Ponca City. \n“The Odd Couple” is presented by arrangement with Concord Theatricals on behalf of Samuel French\, Inc. www.concordtheatricals.com
URL:https://oktheatre.org/event/the-odd-couple-at-the-ponca-playhouse/2025-09-12/
LOCATION:Ponca Playhouse\, 301 S 1st Street\, Ponca City\, OK\, 74601\, United States
ATTACH;FMTTYPE=image/webp:https://oktheatre.org/wp-content/uploads/2025/08/Odd-Couple-Poster-final.webp
ORGANIZER;CN="Ponca Playhouse":MAILTO:poncaplayhouse@gmail.com
END:VEVENT
END:VCALENDAR