BEGIN:VCALENDAR
VERSION:2.0
PRODID:-//Oklahoma Community Theatre Association - ECPv6.15.20//NONSGML v1.0//EN
CALSCALE:GREGORIAN
METHOD:PUBLISH
X-WR-CALNAME:Oklahoma Community Theatre Association
X-ORIGINAL-URL:https://oktheatre.org
X-WR-CALDESC:Events for Oklahoma Community Theatre Association
REFRESH-INTERVAL;VALUE=DURATION:PT1H
X-Robots-Tag:noindex
X-PUBLISHED-TTL:PT1H
BEGIN:VTIMEZONE
TZID:America/Chicago
BEGIN:DAYLIGHT
TZOFFSETFROM:-0600
TZOFFSETTO:-0500
TZNAME:CDT
DTSTART:20240310T080000
END:DAYLIGHT
BEGIN:STANDARD
TZOFFSETFROM:-0500
TZOFFSETTO:-0600
TZNAME:CST
DTSTART:20241103T070000
END:STANDARD
BEGIN:DAYLIGHT
TZOFFSETFROM:-0600
TZOFFSETTO:-0500
TZNAME:CDT
DTSTART:20250309T080000
END:DAYLIGHT
BEGIN:STANDARD
TZOFFSETFROM:-0500
TZOFFSETTO:-0600
TZNAME:CST
DTSTART:20251102T070000
END:STANDARD
BEGIN:DAYLIGHT
TZOFFSETFROM:-0600
TZOFFSETTO:-0500
TZNAME:CDT
DTSTART:20260308T080000
END:DAYLIGHT
BEGIN:STANDARD
TZOFFSETFROM:-0500
TZOFFSETTO:-0600
TZNAME:CST
DTSTART:20261101T070000
END:STANDARD
END:VTIMEZONE
BEGIN:VEVENT
DTSTART;TZID=America/Chicago:20250912T193000
DTEND;TZID=America/Chicago:20250912T220000
DTSTAMP:20260424T174234
CREATED:20250903T192232Z
LAST-MODIFIED:20250904T042606Z
UID:10003437-1757705400-1757714400@oktheatre.org
SUMMARY:“The Odd Couple” at the Ponca Playhouse
DESCRIPTION:Find out what happens when the recently-separated Felix Unger becomes roommates with untidy slob Oscar Madison\, as the Ponca Playhouse kicks off our 67th season with Neil Simon’s\, “The Odd Couple\,” directed by Lance Garrett. This comedy classic features an amazing cast and its a show you won’t want to miss! Performances are September 12-14\, and September 19-21. Friday and Saturday showtimes are 7:30p\, and Sunday matinees are at 2p. Tickets on Sale at www.poncaplayhouse.com. Season memberships are also available! \nThe Ponca Playhouse is located at 301 S 1st Street (corner if 1st and Oklahoma) in downtown Ponca City. \n“The Odd Couple” is presented by arrangement with Concord Theatricals on behalf of Samuel French\, Inc. www.concordtheatricals.com
URL:https://oktheatre.org/event/the-odd-couple-at-the-ponca-playhouse/2025-09-12/
LOCATION:Ponca Playhouse\, 301 S 1st Street\, Ponca City\, OK\, 74601\, United States
ATTACH;FMTTYPE=image/webp:https://oktheatre.org/wp-content/uploads/2025/08/Odd-Couple-Poster-final.webp
ORGANIZER;CN="Ponca Playhouse":MAILTO:poncaplayhouse@gmail.com
END:VEVENT
END:VCALENDAR